Workbook

Sheet Sheet1
A1: 附件1： 北京师范大学家庭经济困难学生寒假返乡路费补助汇总表
A2: 序号 | B2: 院系 | C2: 姓名 | D2: 学号 | E2: 困难类型 （特困/普困） | F2: 建议资助排序 （仅普困学生填写） | G2: 起始地 （省级） | H2: 终到地 （省级） | I2: 是否审核车票 | J2: 补助金额 | K2: 备注
A3: 例如： | B3: xxx | C3: xxx | D3: xxx | G3: 北京市 | H3: 湖北省 | I3: 是 | J3: =IF(I3="是",VLOOKUP(H3,后台!A:B,2,0),0) -> 600
G4: 北京市 | J4: =IF(I4="是",VLOOKUP(H4,后台!A:B,2,0),0) -> 0
G5: 北京市 | J5: 0
G6: 北京市 | J6: =IF(I6="是",VLOOKUP(H6,后台!A:B,2,0),0) -> 0
G7: 北京市 | J7: =IF(I7="是",VLOOKUP(H7,后台!A:B,2,0),0) -> 0
G8: 北京市 | J8: =IF(I8="是",VLOOKUP(H8,后台!A:B,2,0),0) -> 0
G9: 北京市 | J9: =IF(I9="是",VLOOKUP(H9,后台!A:B,2,0),0) -> 0
G10: 北京市 | J10: =IF(I10="是",VLOOKUP(H10,后台!A:B,2,0),0) -> 0
G11: 北京市 | J11: =IF(I11="是",VLOOKUP(H11,后台!A:B,2,0),0) -> 0
G12: 北京市 | J12: =IF(I12="是",VLOOKUP(H12,后台!A:B,2,0),0) -> 0
G13: 北京市 | J13: =IF(I13="是",VLOOKUP(H13,后台!A:B,2,0),0) -> 0
G14: 北京市 | J14: =IF(I14="是",VLOOKUP(H14,后台!A:B,2,0),0) -> 0
G15: 北京市 | J15: =IF(I15="是",VLOOKUP(H15,后台!A:B,2,0),0) -> 0
G16: 北京市 | J16: =IF(I16="是",VLOOKUP(H16,后台!A:B,2,0),0) -> 0
G17: 北京市 | J17: =IF(I17="是",VLOOKUP(H17,后台!A:B,2,0),0) -> 0
... G99: 北京市 | J99: =IF(I99="是",VLOOKUP(H99,后台!A:B,2,0),0) -> 0

Sheet 后台
A1: 北京市 | B1: 0
A2: 天津市 | B2: 0
A3: 河北省 | B3: 300
A4: 山西省 | B4: 300
A5: 内蒙古自治区 | B5: 600
A6: 辽宁省 | B6: 600
A7: 吉林省 | B7: 600
A8: 黑龙江省 | B8: 600
A9: 上海市 | B9: 0
A10: 江苏省 | B10: 600
A11: 浙江省 | B11: 600
A12: 安徽省 | B12: 600
... A34: 台湾省 | B34: 0
